BEGIN:VCALENDAR
VERSION:2.0
PRODID:Imitheme.com 
BEGIN:VEVENT
UID:20260423T0859392119070821
DTSTAMP;TZID=UTC:2026-04-23 08:59:39
DTSTART;TZID=America/Los_Angeles:20260423T085939
DTEND;TZID=America/Los_Angeles:20260423T085939
SUMMARY:Wellness Fair at GCHS
LOCATION:
DESCRIPTION:
URL:https://tbfc.ca/eventer/wellness-fair-at-gchs/
END:VEVENT
END:VCALENDAR
