BEGIN:VCALENDAR
VERSION:2.0
PRODID:Imitheme.com 
BEGIN:VEVENT
UID:20260423T0725041019763315
DTSTAMP;TZID=UTC:2026-04-23 07:25:04
DTSTART;TZID=America/Los_Angeles:20260423T072504
DTEND;TZID=America/Los_Angeles:20260423T072504
SUMMARY:Children's Mental Health Week
LOCATION:
DESCRIPTION:Activities to be announced soon
URL:https://tbfc.ca/eventer/childrens-mental-health-week/
END:VEVENT
END:VCALENDAR
