BEGIN:VCALENDAR
VERSION:2.0
PRODID:Imitheme.com 
BEGIN:VEVENT
UID:20260420T043048835434386
DTSTAMP;TZID=UTC:2026-04-20 04:30:48
DTSTART;TZID=America/Los_Angeles:20260420T043048
DTEND;TZID=America/Los_Angeles:20260420T043048
SUMMARY:Anger Management Workshop
LOCATION:
DESCRIPTION:Transportation can be provided from Longlac upon registration Lunch will be provided.
URL:https://tbfc.ca/eventer/anger-management-workshop-2/
END:VEVENT
END:VCALENDAR
