BEGIN:VCALENDAR
VERSION:2.0
PRODID:Imitheme.com 
BEGIN:VEVENT
UID:20260422T0429531820787420
DTSTAMP;TZID=UTC:2026-04-22 04:29:53
DTSTART;TZID=America/Los_Angeles:20260422T042953
DTEND;TZID=America/Los_Angeles:20260422T042953
SUMMARY:Movement Afternoon
LOCATION:
DESCRIPTION:
URL:https://tbfc.ca/eventer/movement-afternoon-16/
END:VEVENT
END:VCALENDAR
