BEGIN:VCALENDAR
VERSION:2.0
PRODID:Imitheme.com 
BEGIN:VEVENT
UID:20260421T0423352005354664
DTSTAMP;TZID=UTC:2026-04-21 04:23:35
DTSTART;TZID=America/Los_Angeles:20260421T042335
DTEND;TZID=America/Los_Angeles:20260421T042335
SUMMARY:Baby Group Drop In
LOCATION:
DESCRIPTION:
URL:https://tbfc.ca/eventer/drop-in-155/
END:VEVENT
END:VCALENDAR
