BEGIN:VCALENDAR
VERSION:2.0
PRODID:Imitheme.com 
BEGIN:VEVENT
UID:20260422T0434381777130194
DTSTAMP;TZID=UTC:2026-04-22 04:34:38
DTSTART;TZID=America/Los_Angeles:20260422T043438
DTEND;TZID=America/Los_Angeles:20260422T043438
SUMMARY:Baby moccasin making (6-9 months)
LOCATION:
DESCRIPTION:
URL:https://tbfc.ca/eventer/baby-moccasin-making-6-9-months/
END:VEVENT
END:VCALENDAR
