BEGIN:VCALENDAR
VERSION:2.0
PRODID:Imitheme.com 
BEGIN:VEVENT
UID:20260421T045122317494861
DTSTAMP;TZID=UTC:2026-04-21 04:51:22
DTSTART;TZID=America/Los_Angeles:20260421T045122
DTEND;TZID=America/Los_Angeles:20260421T045122
SUMMARY:Spring Feast
LOCATION:
DESCRIPTION:
URL:https://tbfc.ca/eventer/spring-feast/
END:VEVENT
END:VCALENDAR
