BEGIN:VCALENDAR
VERSION:2.0
PRODID:Imitheme.com 
BEGIN:VEVENT
UID:20260425T072827691443113
DTSTAMP;TZID=UTC:2026-04-25 07:28:27
DTSTART;TZID=America/Los_Angeles:20260425T072827
DTEND;TZID=America/Los_Angeles:20260425T072827
SUMMARY:Board Meeting
LOCATION:
DESCRIPTION:
URL:https://tbfc.ca/eventer/board-meeting/
END:VEVENT
END:VCALENDAR
