BEGIN:VCALENDAR
VERSION:2.0
PRODID:Imitheme.com 
BEGIN:VEVENT
UID:20260419T0909031764634432
DTSTAMP;TZID=UTC:2026-04-19 09:09:03
DTSTART;TZID=America/Los_Angeles:20260419T090903
DTEND;TZID=America/Los_Angeles:20260419T090903
SUMMARY:Easter Breakfast
LOCATION:
DESCRIPTION:
URL:https://tbfc.ca/eventer/easter-breakfast/
END:VEVENT
END:VCALENDAR
