BEGIN:VCALENDAR
VERSION:2.0
PRODID:Imitheme.com 
BEGIN:VEVENT
UID:20260425T07300322888190
DTSTAMP;TZID=UTC:2026-04-25 07:30:03
DTSTART;TZID=America/Los_Angeles:20260425T073003
DTEND;TZID=America/Los_Angeles:20260425T073003
SUMMARY:Food Support
LOCATION:
DESCRIPTION:Call to register
URL:https://tbfc.ca/eventer/food-support/
END:VEVENT
END:VCALENDAR
