BEGIN:VCALENDAR
VERSION:2.0
PRODID:Imitheme.com 
BEGIN:VEVENT
UID:20260423T0432231756002764
DTSTAMP;TZID=UTC:2026-04-23 04:32:23
DTSTART;TZID=America/Los_Angeles:20260423T043223
DTEND;TZID=America/Los_Angeles:20260423T043223
SUMMARY:Drop In
LOCATION:
DESCRIPTION:
URL:https://tbfc.ca/eventer/drop-in-248/
END:VEVENT
END:VCALENDAR
