BEGIN:VCALENDAR
VERSION:2.0
PRODID:Imitheme.com 
BEGIN:VEVENT
UID:20260421T0456031797464298
DTSTAMP;TZID=UTC:2026-04-21 04:56:03
DTSTART;TZID=America/Los_Angeles:20260421T045603
DTEND;TZID=America/Los_Angeles:20260421T045603
SUMMARY:Snack and Chat
LOCATION:
DESCRIPTION:
URL:https://tbfc.ca/eventer/snack-and-chat/
END:VEVENT
END:VCALENDAR
