BEGIN:VCALENDAR
VERSION:2.0
PRODID:Imitheme.com 
BEGIN:VEVENT
UID:20260420T0422131569732997
DTSTAMP;TZID=UTC:2026-04-20 04:22:13
DTSTART;TZID=America/Los_Angeles:20260420T042213
DTEND;TZID=America/Los_Angeles:20260420T042213
SUMMARY:Valentines Day Brunch
LOCATION:
DESCRIPTION:
URL:https://tbfc.ca/eventer/valentines-day-brunch/
END:VEVENT
END:VCALENDAR
