BEGIN:VCALENDAR
VERSION:2.0
PRODID:Imitheme.com 
BEGIN:VEVENT
UID:20260420T0421201504222378
DTSTAMP;TZID=UTC:2026-04-20 04:21:20
DTSTART;TZID=America/Los_Angeles:20260420T042120
DTEND;TZID=America/Los_Angeles:20260420T042120
SUMMARY:CENTRE CLOSED ALL DAY
LOCATION:
DESCRIPTION:
URL:https://tbfc.ca/eventer/centre-closed-all-day/
END:VEVENT
END:VCALENDAR
