BEGIN:VCALENDAR
VERSION:2.0
PRODID:Imitheme.com 
BEGIN:VEVENT
UID:20260422T181535502334236
DTSTAMP;TZID=UTC:2026-04-22 18:15:35
DTSTART;TZID=America/Los_Angeles:20260422T181535
DTEND;TZID=America/Los_Angeles:20260422T181535
SUMMARY:Cultural Grounds Set Up
LOCATION:
DESCRIPTION:Pack and lunch and come visit us at our Cultural Grounds to help with prep, set up or just come to say hello! 16km on Highway 584. Look for the Medicine Wheel Post!
URL:https://tbfc.ca/eventer/cultural-grounds-set-up-2/
END:VEVENT
END:VCALENDAR
