BEGIN:VCALENDAR
VERSION:2.0
PRODID:Imitheme.com 
BEGIN:VEVENT
UID:20260420T0012082024309871
DTSTAMP;TZID=UTC:2026-04-20 00:12:08
DTSTART;TZID=America/Los_Angeles:20260420T001208
DTEND;TZID=America/Los_Angeles:20260420T001208
SUMMARY:Food Security
LOCATION:
DESCRIPTION:Please call the office to register
URL:https://tbfc.ca/eventer/food-security/
END:VEVENT
END:VCALENDAR
