BEGIN:VCALENDAR
VERSION:2.0
PRODID:Imitheme.com 
BEGIN:VEVENT
UID:20260422T134558767540774
DTSTAMP;TZID=UTC:2026-04-22 13:45:58
DTSTART;TZID=America/Los_Angeles:20260422T134558
DTEND;TZID=America/Los_Angeles:20260422T134558
SUMMARY:Strawberry Moon Teaching/Activities
LOCATION:
DESCRIPTION:
URL:https://tbfc.ca/eventer/strawberry-moon-teaching-activities/
END:VEVENT
END:VCALENDAR
