BEGIN:VCALENDAR
VERSION:2.0
PRODID:Imitheme.com 
BEGIN:VEVENT
UID:20260420T0350011169950523
DTSTAMP;TZID=UTC:2026-04-20 03:50:01
DTSTART;TZID=America/Los_Angeles:20260420T035001
DTEND;TZID=America/Los_Angeles:20260420T035001
SUMMARY:family camping trip
LOCATION:
DESCRIPTION:
URL:https://tbfc.ca/eventer/family-camping-trip/
END:VEVENT
END:VCALENDAR
