BEGIN:VCALENDAR
VERSION:2.0
PRODID:Imitheme.com 
BEGIN:VEVENT
UID:20260424T13081839132339
DTSTAMP;TZID=UTC:2026-04-24 13:08:18
DTSTART;TZID=America/Los_Angeles:20260424T130818
DTEND;TZID=America/Los_Angeles:20260424T130818
SUMMARY:Pokemon Card Trading Day! 1:30 - 3:30
LOCATION:
DESCRIPTION:A day to share and trade your Pokemon Card Collection! You don’t need cards to attend. There will be games, snacks and refreshments
URL:https://tbfc.ca/eventer/pokemon-card-trading-day-130-330/
END:VEVENT
END:VCALENDAR
