BEGIN:VCALENDAR
VERSION:2.0
PRODID:Imitheme.com 
BEGIN:VEVENT
UID:20260419T2330511975027114
DTSTAMP;TZID=UTC:2026-04-19 23:30:51
DTSTART;TZID=America/Los_Angeles:20260419T233051
DTEND;TZID=America/Los_Angeles:20260419T233051
SUMMARY:Early ON room closed!
LOCATION:
DESCRIPTION:
URL:https://tbfc.ca/eventer/early-on-room-closed/
END:VEVENT
END:VCALENDAR
