BEGIN:VCALENDAR
VERSION:2.0
PRODID:Imitheme.com 
BEGIN:VEVENT
UID:20260424T055016973955168
DTSTAMP;TZID=UTC:2026-04-24 05:50:16
DTSTART;TZID=America/Los_Angeles:20260424T055016
DTEND;TZID=America/Los_Angeles:20260424T055016
SUMMARY:HUUG Kids Program
LOCATION:
DESCRIPTION:For more information call Tracy or Nichole at the Longlac Office : (807) 876-4342
URL:https://tbfc.ca/eventer/huug-kids-program/
END:VEVENT
END:VCALENDAR
