BEGIN:VCALENDAR
VERSION:2.0
PRODID:Imitheme.com 
BEGIN:VEVENT
UID:20260424T042019642414723
DTSTAMP;TZID=UTC:2026-04-24 04:20:19
DTSTART;TZID=America/Los_Angeles:20260424T042019
DTEND;TZID=America/Los_Angeles:20260424T042019
SUMMARY:Change of Season Feast
LOCATION:
DESCRIPTION:
URL:https://tbfc.ca/eventer/change-of-season-feast/
END:VEVENT
END:VCALENDAR
