BEGIN:VCALENDAR
VERSION:2.0
PRODID:Imitheme.com 
BEGIN:VEVENT
UID:20260420T044828703437060
DTSTAMP;TZID=UTC:2026-04-20 04:48:28
DTSTART;TZID=America/Los_Angeles:20260420T044828
DTEND;TZID=America/Los_Angeles:20260420T044828
SUMMARY:Explore and Play
LOCATION:
DESCRIPTION:
URL:https://tbfc.ca/eventer/explore-and-play-6/
END:VEVENT
END:VCALENDAR
