BEGIN:VCALENDAR
VERSION:2.0
PRODID:Imitheme.com 
BEGIN:VEVENT
UID:20260420T0433271773172092
DTSTAMP;TZID=UTC:2026-04-20 04:33:27
DTSTART;TZID=America/Los_Angeles:20260420T043327
DTEND;TZID=America/Los_Angeles:20260420T043327
SUMMARY:Explore and Play
LOCATION:
DESCRIPTION:
URL:https://tbfc.ca/eventer/explore-and-play-7/
END:VEVENT
END:VCALENDAR
