BEGIN:VCALENDAR
VERSION:2.0
PRODID:Imitheme.com 
BEGIN:VEVENT
UID:20260423T085338416460777
DTSTAMP;TZID=UTC:2026-04-23 08:53:38
DTSTART;TZID=America/Los_Angeles:20260423T085338
DTEND;TZID=America/Los_Angeles:20260423T085338
SUMMARY:Making time capsule ornaments
LOCATION:
DESCRIPTION:
URL:https://tbfc.ca/eventer/making-time-capsule-ornaments/
END:VEVENT
END:VCALENDAR
