BEGIN:VCALENDAR
VERSION:2.0
PRODID:Imitheme.com 
BEGIN:VEVENT
UID:20260421T0802391235288214
DTSTAMP;TZID=UTC:2026-04-21 08:02:39
DTSTART;TZID=America/Los_Angeles:20260421T080239
DTEND;TZID=America/Los_Angeles:20260421T080239
SUMMARY:Closed for Programming
LOCATION:
DESCRIPTION:
URL:https://tbfc.ca/eventer/closed-for-programming/
END:VEVENT
END:VCALENDAR
